Workbook

Sheet Non-Payment of Deposits
A1: STATEMENT OF ACCOUNT Strategic Partner - Kiwi Auto Motors 138 Hutt Park Road Gracefield Lower Hutt Wellington 5010 NEW ZEALAND
F3: As At 26 August 2024
H5: Bank Acct. no.: 12-3237-0032186-00
A6: Attention: DON Rajapaksa | H6: TOTAL DUE AMOUNT: | J6: =I152+J152 -> 0
A8: Date | B8: KAP INV# | C8: Shipments | D8: ETD | E8: ETA | F8: Year Make Model | G8: Chassis | H8: Due Date | I8: Invoice Amount Due | J8: Deposit Due
A9: =IFERROR(VLOOKUP($G9,'as of August 26'!$A$5:$V$195,3,0),"") | B9: =IFERROR(VLOOKUP($G9,'as of August 26'!$A$5:$V$195,5,0),"") | C9: =IFERROR(VLOOKUP($G9,'as of August 26'!$A$5:$V$1187,19,0),"") | D9: =IFERROR(VLOOKUP($G9,'as of August 26'!$A$5:$V$195,20,0),"") | E9: =IFERROR(VLOOKUP($G9,'as of August 26'!$A$5:$V$195,21,0),"") | F9: =IFERROR(VLOOKUP($G9,'as of August 26'!$A$5:$V$195,8,0),"") | G9: {=IFERROR(INDEX('as of August 26'!$F$5:$F$195,SMALL(IF('as of August 26'!$B$5:$B$195="YES",ROW('as of August 26'!$B$5:$B$195)-MIN(ROW('as of August 26'!$B$5:$B$195))+1),ROW(1:1))),"")} | H9: =IFERROR(VLOOKUP($G9,'as of August 26'!$A$5:$V$195,4,0),"") | I9: =IFERROR(IF(ISBLANK(K9),"",VLOOKUP($G9,'as of August 26'!$A$5:$V$195,16,0)-J9),"") | J9: =IFERROR(VLOOKUP($G9,'as of August 26'!$A$5:$V$195,13,0),"") | K9: =IFERROR(VLOOKUP($G9,'as of August 26'!$A$5:$X$195,23,0),"")
A10: =IFERROR(VLOOKUP($G10,'as of August 26'!$A$5:$V$195,3,0),"") | B10: =IFERROR(VLOOKUP($G10,'as of August 26'!$A$5:$V$195,5,0),"") | C10: =IFERROR(VLOOKUP($G10,'as of August 26'!$A$5:$V$195,19,0),"") | D10: =IFERROR(VLOOKUP($G10,'as of August 26'!$A$5:$V$195,20,0),"") | E10: =IFERROR(VLOOKUP($G10,'as of August 26'!$A$5:$V$195,21,0),"") | F10: =IFERROR(VLOOKUP($G10,'as of August 26'!$A$5:$V$195,8,0),"") | G10: {=IFERROR(INDEX('as of August 26'!$F$5:$F$195,SMALL(IF('as of August 26'!$B$5:$B$195="YES",ROW('as of August 26'!$B$5:$B$195)-MIN(ROW('as of August 26'!$B$5:$B$195))+1),ROW(2:2))),"")} | H10: 45450 | I10: =IFERROR(IF(ISBLANK(K10),"",VLOOKUP($G10,'as of August 26'!$A$5:$V$195,16,0)-J10),"") | J10: =IFERROR(VLOOKUP($G10,'as of August 26'!$A$5:$V$195,13,0),"") | K10: =IFERROR(VLOOKUP($G10,'as of August 26'!$A$5:$X$195,23,0),"")
A11: =IFERROR(VLOOKUP($G11,'as of August 26'!$A$5:$V$195,3,0),"") | B11: =IFERROR(VLOOKUP($G11,'as of August 26'!$A$5:$V$195,5,0),"") | C11: =IFERROR(VLOOKUP($G11,'as of August 26'!$A$5:$V$195,19,0),"") | D11: =IFERROR(VLOOKUP($G11,'as of August 26'!$A$5:$V$195,20,0),"") | E11: =IFERROR(VLOOKUP($G11,'as of August 26'!$A$5:$V$195,21,0),"") | F11: =IFERROR(VLOOKUP($G11,'as of August 26'!$A$5:$V$195,8,0),"") | G11: {=IFERROR(INDEX('as of August 26'!$F$5:$F$195,SMALL(IF('as of August 26'!$B$5:$B$195="YES",ROW('as of August 26'!$B$5:$B$195)-MIN(ROW('as of August 26'!$B$5:$B$195))+1),ROW(3:3))),"")} | H11: =IFERROR(VLOOKUP($G11,'as of August 26'!$A$5:$V$195,4,0),"") | I11: =IFERROR(IF(ISBLANK(K11),"",VLOOKUP($G11,'as of August 26'!$A$5:$V$195,16,0)-J11),"") | J11: =IFERROR(VLOOKUP($G11,'as of August 26'!$A$5:$V$195,13,0),"") | K11: =IFERROR(VLOOKUP($G11,'as of August 26'!$A$5:$X$195,23,0),"")
A12: =IFERROR(VLOOKUP($G12,'as of August 26'!$A$5:$V$195,3,0),"") | B12: =IFERROR(VLOOKUP($G12,'as of August 26'!$A$5:$V$195,5,0),"") | C12: =IFERROR(VLOOKUP($G12,'as of August 26'!$A$5:$V$195,19,0),"") | D12: =IFERROR(VLOOKUP($G12,'as of August 26'!$A$5:$V$195,20,0),"") | E12: =IFERROR(VLOOKUP($G12,'as of August 26'!$A$5:$V$195,21,0),"") | F12: =IFERROR(VLOOKUP($G12,'as of August 26'!$A$5:$V$195,8,0),"") | G12: {=IFERROR(INDEX('as of August 26'!$F$5:$F$195,SMALL(IF('as of August 26'!$B$5:$B$195="YES",ROW('as of August 26'!$B$5:$B$195)-MIN(ROW('as of August 26'!$B$5:$B$195))+1),ROW(4:4))),"")} | H12: =IFERROR(VLOOKUP($G12,'as of August 26'!$A$5:$V$195,4,0),"") | I12: =IFERROR(IF(ISBLANK(K12),"",VLOOKUP($G12,'as of August 26'!$A$5:$V$195,16,0)-J12),"") | J12: =IFERROR(VLOOKUP($G12,'as of August 26'!$A$5:$V$195,13,0),"") | K12: =IFERROR(VLOOKUP($G12,'as of August 26'!$A$5:$X$195,23,0),"")
A13: =IFERROR(VLOOKUP($G13,'as of August 26'!$A$5:$V$195,3,0),"") | B13: =IFERROR(VLOOKUP($G13,'as of August 26'!$A$5:$V$195,5,0),"") | C13: =IFERROR(VLOOKUP($G13,'as of August 26'!$A$5:$V$195,19,0),"") | D13: =IFERROR(VLOOKUP($G13,'as of August 26'!$A$5:$V$195,20,0),"") | E13: =IFERROR(VLOOKUP($G13,'as of August 26'!$A$5:$V$195,21,0),"") | F13: =IFERROR(VLOOKUP($G13,'as of August 26'!$A$5:$V$195,8,0),"") | G13: {=IFERROR(INDEX('as of August 26'!$F$5:$F$195,SMALL(IF('as of August 26'!$B$5:$B$195="YES",ROW('as of August 26'!$B$5:$B$195)-MIN(ROW('as of August 26'!$B$5:$B$195))+1),ROW(5:5))),"")} | H13: =IFERROR(VLOOKUP($G13,'as of August 26'!$A$5:$V$195,4,0),"") | I13: =IFERROR(IF(ISBLANK(K13),"",VLOOKUP($G13,'as of August 26'!$A$5:$V$195,16,0)-J13),"") | J13: =IFERROR(VLOOKUP($G13,'as of August 26'!$A$5:$V$195,13,0),"") | K13: =IFERROR(VLOOKUP($G13,'as of August 26'!$A$5:$X$195,23,0),"")
A14: =IFERROR(VLOOKUP($G14,'as of August 26'!$A$5:$V$195,3,0),"") | B14: =IFERROR(VLOOKUP($G14,'as of August 26'!$A$5:$V$195,5,0),"") | C14: =IFERROR(VLOOKUP($G14,'as of August 26'!$A$5:$V$195,19,0),"") | D14: =IFERROR(VLOOKUP($G14,'as of August 26'!$A$5:$V$195,20,0),"") | E14: =IFERROR(VLOOKUP($G14,'as of August 26'!$A$5:$V$195,21,0),"") | F14: =IFERROR(VLOOKUP($G14,'as of August 26'!$A$5:$V$195,8,0),"") | G14: {=IFERROR(INDEX('as of August 26'!$F$5:$F$195,SMALL(IF('as of August 26'!$B$5:$B$195="YES",ROW('as of August 26'!$B$5:$B$195)-MIN(ROW('as of August 26'!$B$5:$B$195))+1),ROW(6:6))),"")} | H14: =IFERROR(VLOOKUP($G14,'as of August 26'!$A$5:$V$195,4,0),"") | I14: =IFERROR(IF(ISBLANK(K14),"",VLOOKUP($G14,'as of August 26'!$A$5:$V$195,16,0)-J14),"") | J14: =IFERROR(VLOOKUP($G14,'as of August 26'!$A$5:$V$195,13,0),"") | K14: =IFERROR(VLOOKUP($G14,'as of August 26'!$A$5:$X$195,23,0),"")
A15: =IFERROR(VLOOKUP($G15,'as of August 26'!$A$5:$V$195,3,0),"") | B15: =IFERROR(VLOOKUP($G15,'as of August 26'!$A$5:$V$195,5,0),"") | C15: =IFERROR(VLOOKUP($G15,'as of August 26'!$A$5:$V$195,19,0),"") | D15: =IFERROR(VLOOKUP($G15,'as of August 26'!$A$5:$V$195,20,0),"") | E15: =IFERROR(VLOOKUP($G15,'as of August 26'!$A$5:$V$195,21,0),"") | F15: =IFERROR(VLOOKUP($G15,'as of August 26'!$A$5:$V$195,8,0),"") | G15: {=IFERROR(INDEX('as of August 26'!$F$5:$F$195,SMALL(IF('as of August 26'!$B$5:$B$195="YES",ROW('as of August 26'!$B$5:$B$195)-MIN(ROW('as of August 26'!$B$5:$B$195))+1),ROW(7:7))),"")} | H15: =IFERROR(VLOOKUP($G15,'as of August 26'!$A$5:$V$195,4,0),"") | I15: =IFERROR(IF(ISBLANK(K15),"",VLOOKUP($G15,'as of August 26'!$A$5:$V$195,16,0)-J15),"") | J15: =IFERROR(VLOOKUP($G15,'as of August 26'!$A$5:$V$195,13,0),"") | K15: =IFERROR(VLOOKUP($G15,'as of August 26'!$A$5:$X$195,23,0),"")
A16: =IFERROR(VLOOKUP($G16,'as of August 26'!$A$5:$V$195,3,0),"") | B16: =IFERROR(VLOOKUP($G16,'as of August 26'!$A$5:$V$195,5,0),"") | C16: =IFERROR(VLOOKUP($G16,'as of August 26'!$A$5:$V$195,19,0),"") | D16: =IFERROR(VLOOKUP($G16,'as of August 26'!$A$5:$V$195,20,0),"") | E16: =IFERROR(VLOOKUP($G16,'as of August 26'!$A$5:$V$195,21,0),"") | F16: =IFERROR(VLOOKUP($G16,'as of August 26'!$A$5:$V$195,8,0),"") | G16: {=IFERROR(INDEX('as of August 26'!$F$5:$F$195,SMALL(IF('as of August 26'!$B$5:$B$195="YES",ROW('as of August 26'!$B$5:$B$195)-MIN(ROW('as of August 26'!$B$5:$B$195))+1),ROW(8:8))),"")} | H16: =IFERROR(VLOOKUP($G16,'as of August 26'!$A$5:$V$195,4,0),"") | I16: =IFERROR(IF(ISBLANK(K16),"",VLOOKUP($G16,'as of August 26'!$A$5:$V$195,16,0)-J16),"") | J16: =IFERROR(VLOOKUP($G16,'as of August 26'!$A$5:$V$195,13,0),"") | K16: =IFERROR(VLOOKUP($G16,'as of August 26'!$A$5:$X$195,23,0),"")
A17: =IFERROR(VLOOKUP($G17,'as of August 26'!$A$5:$V$195,3,0),"") | B17: =IFERROR(VLOOKUP($G17,'as of August 26'!$A$5:$V$195,5,0),"") | C17: =IFERROR(VLOOKUP($G17,'as of August 26'!$A$5:$V$195,19,0),"") | D17: =IFERROR(VLOOKUP($G17,'as of August 26'!$A$5:$V$195,20,0),"") | E17: =IFERROR(VLOOKUP($G17,'as of August 26'!$A$5:$V$195,21,0),"") | F17: =IFERROR(VLOOKUP($G17,'as of August 26'!$A$5:$V$195,8,0),"") | G17: {=IFERROR(INDEX('as of August 26'!$F$5:$F$195,SMALL(IF('as of August 26'!$B$5:$B$195="YES",ROW('as of August 26'!$B$5:$B$195)-MIN(ROW('as of August 26'!$B$5:$B$195))+1),ROW(9:9))),"")} | H17: =IFERROR(VLOOKUP($G17,'as of August 26'!$A$5:$V$195,4,0),"") | I17: =IFERROR(IF(ISBLANK(K17),"",VLOOKUP($G17,'as of August 26'!$A$5:$V$195,16,0)-J17),"") | J17: =IFERROR(VLOOKUP($G17,'as of August 26'!$A$5:$V$195,13,0),"") | K17: =IFERROR(VLOOKUP($G17,'as of August 26'!$A$5:$X$195,23,0),"")
A18: =IFERROR(VLOOKUP($G18,'as of August 26'!$A$5:$V$195,3,0),"") | B18: =IFERROR(VLOOKUP($G18,'as of August 26'!$A$5:$V$195,5,0),"") | C18: =IFERROR(VLOOKUP($G18,'as of August 26'!$A$5:$V$195,19,0),"") | D18: =IFERROR(VLOOKUP($G18,'as of August 26'!$A$5:$V$195,20,0),"") | E18: =IFERROR(VLOOKUP($G18,'as of August 26'!$A$5:$V$195,21,0),"") | F18: =IFERROR(VLOOKUP($G18,'as of August 26'!$A$5:$V$195,8,0),"") | G18: {=IFERROR(INDEX('as of August 26'!$F$5:$F$195,SMALL(IF('as of August 26'!$B$5:$B$195="YES",ROW('as of August 26'!$B$5:$B$195)-MIN(ROW('as of August 26'!$B$5:$B$195))+1),ROW(10:10))),"")} | H18: =IFERROR(VLOOKUP($G18,'as of August 26'!$A$5:$V$195,4,0),"") | I18: =IFERROR(IF(ISBLANK(K18),"",VLOOKUP($G18,'as of August 26'!$A$5:$V$195,16,0)-J18),"") | J18: =IFERROR(VLOOKUP($G18,'as of August 26'!$A$5:$V$195,13,0),"") | K18: =IFERROR(VLOOKUP($G18,'as of August 26'!$A$5:$X$195,23,0),"")
A19: =IFERROR(VLOOKUP($G19,'as of August 26'!$A$5:$V$195,3,0),"") | B19: =IFERROR(VLOOKUP($G19,'as of August 26'!$A$5:$V$195,5,0),"") | C19: =IFERROR(VLOOKUP($G19,'as of August 26'!$A$5:$V$195,19,0),"") | D19: =IFERROR(VLOOKUP($G19,'as of August 26'!$A$5:$V$195,20,0),"") | E19: =IFERROR(VLOOKUP($G19,'as of August 26'!$A$5:$V$195,21,0),"") | F19: =IFERROR(VLOOKUP($G19,'as of August 26'!$A$5:$V$195,8,0),"") | G19: {=IFERROR(INDEX('as of August 26'!$F$5:$F$195,SMALL(IF('as of August 26'!$B$5:$B$195="YES",ROW('as of August 26'!$B$5:$B$195)-MIN(ROW('as of August 26'!$B$5:$B$195))+1),ROW(11:11))),"")} | H19: =IFERROR(VLOOKUP($G19,'as of August 26'!$A$5:$V$195,4,0),"") | I19: =IFERROR(IF(ISBLANK(K19),"",VLOOKUP($G19,'as of August 26'!$A$5:$V$195,16,0)-J19),"") | J19: =IFERROR(VLOOKUP($G19,'as of August 26'!$A$5:$V$195,13,0),"") | K19: =IFERROR(VLOOKUP($G19,'as of August 26'!$A$5:$X$195,23,0),"")
A20: =IFERROR(VLOOKUP($G20,'as of August 26'!$A$5:$V$195,3,0),"") | B20: =IFERROR(VLOOKUP($G20,'as of August 26'!$A$5:$V$195,5,0),"") | C20: =IFERROR(VLOOKUP($G20,'as of August 26'!$A$5:$V$195,19,0),"") | D20: =IFERROR(VLOOKUP($G20,'as of August 26'!$A$5:$V$195,20,0),"") | E20: =IFERROR(VLOOKUP($G20,'as of August 26'!$A$5:$V$195,21,0),"") | F20: =IFERROR(VLOOKUP($G20,'as of August 26'!$A$5:$V$195,8,0),"") | G20: {=IFERROR(INDEX('as of August 26'!$F$5:$F$195,SMALL(IF('as of August 26'!$B$5:$B$195="YES",ROW('as of August 26'!$B$5:$B$195)-MIN(ROW('as of August 26'!$B$5:$B$195))+1),ROW(12:12))),"")} | H20: =IFERROR(VLOOKUP($G20,'as of August 26'!$A$5:$V$195,4,0),"") | I20: =IFERROR(IF(ISBLANK(K20),"",VLOOKUP($G20,'as of August 26'!$A$5:$V$195,16,0)-J20),"") | J20: =IFERROR(VLOOKUP($G20,'as of August 26'!$A$5:$V$195,13,0),"") | K20: =IFERROR(VLOOKUP($G20,'as of August 26'!$A$5:$X$195,23,0),"")
A21: =IFERROR(VLOOKUP($G21,'as of August 26'!$A$5:$V$195,3,0),"") | B21: =IFERROR(VLOOKUP($G21,'as of August 26'!$A$5:$V$195,5,0),"") | C21: =IFERROR(VLOOKUP($G21,'as of August 26'!$A$5:$V$195,19,0),"") | D21: =IFERROR(VLOOKUP($G21,'as of August 26'!$A$5:$V$195,20,0),"") | E21: =IFERROR(VLOOKUP($G21,'as of August 26'!$A$5:$V$195,21,0),"") | F21: =IFERROR(VLOOKUP($G21,'as of August 26'!$A$5:$V$195,8,0),"") | G21: {=IFERROR(INDEX('as of August 26'!$F$5:$F$195,SMALL(IF('as of August 26'!$B$5:$B$195="YES",ROW('as of August 26'!$B$5:$B$195)-MIN(ROW('as of August 26'!$B$5:$B$195))+1),ROW(13:13))),"")} | H21: =IFERROR(VLOOKUP($G21,'as of August 26'!$A$5:$V$195,4,0),"") | I21: =IFERROR(IF(ISBLANK(K21),"",VLOOKUP($G21,'as of August 26'!$A$5:$V$195,16,0)-J21),"") | J21: =IFERROR(VLOOKUP($G21,'as of August 26'!$A$5:$V$195,13,0),"") | K21: =IFERROR(VLOOKUP($G21,'as of August 26'!$A$5:$X$195,23,0),"")
A22: =IFERROR(VLOOKUP($G22,'as of August 26'!$A$5:$V$195,3,0),"") | B22: =IFERROR(VLOOKUP($G22,'as of August 26'!$A$5:$V$195,5,0),"") | C22: =IFERROR(VLOOKUP($G22,'as of August 26'!$A$5:$V$195,19,0),"") | D22: =IFERROR(VLOOKUP($G22,'as of August 26'!$A$5:$V$195,20,0),"") | E22: =IFERROR(VLOOKUP($G22,'as of August 26'!$A$5:$V$195,21,0),"") | F22: =IFERROR(VLOOKUP($G22,'as of August 26'!$A$5:$V$195,8,0),"") | G22: {=IFERROR(INDEX('as of August 26'!$F$5:$F$195,SMALL(IF('as of August 26'!$B$5:$B$195="YES",ROW('as of August 26'!$B$5:$B$195)-MIN(ROW('as of August 26'!$B$5:$B$195))+1),ROW(14:14))),"")} | H22: =IFERROR(VLOOKUP($G22,'as of August 26'!$A$5:$V$195,4,0),"") | I22: =IFERROR(IF(ISBLANK(K22),"",VLOOKUP($G22,'as of August 26'!$A$5:$V$195,16,0)-J22),"") | J22: =IFERROR(VLOOKUP($G22,'as of August 26'!$A$5:$V$195,13,0),"") | K22: =IFERROR(VLOOKUP($G22,'as of August 26'!$A$5:$X$195,23,0),"")
A23: =IFERROR(VLOOKUP($G23,'as of August 26'!$A$5:$V$195,3,0),"") | B23: =IFERROR(VLOOKUP($G23,'as of August 26'!$A$5:$V$195,5,0),"") | C23: =IFERROR(VLOOKUP($G23,'as of August 26'!$A$5:$V$195,19,0),"") | D23: =IFERROR(VLOOKUP($G23,'as of August 26'!$A$5:$V$195,20,0),"") | E23: =IFERROR(VLOOKUP($G23,'as of August 26'!$A$5:$V$195,21,0),"") | F23: =IFERROR(VLOOKUP($G23,'as of August 26'!$A$5:$V$195,8,0),"") | G23: {=IFERROR(INDEX('as of August 26'!$F$5:$F$195,SMALL(IF('as of August 26'!$B$5:$B$195="YES",ROW('as of August 26'!$B$5:$B$195)-MIN(ROW('as of August 26'!$B$5:$B$195))+1),ROW(15:15))),"")} | H23: =IFERROR(VLOOKUP($G23,'as of August 26'!$A$5:$V$195,4,0),"") | I23: =IFERROR(IF(ISBLANK(K23),"",VLOOKUP($G23,'as of August 26'!$A$5:$V$195,16,0)-J23),"") | J23: =IFERROR(VLOOKUP($G23,'as of August 26'!$A$5:$V$195,13,0),"") | K23: =IFERROR(VLOOKUP($G23,'as of August 26'!$A$5:$X$195,23,0),"")
A24: =IFERROR(VLOOKUP($G24,'as of August 26'!$A$5:$V$195,3,0),"") | B24: =IFERROR(VLOOKUP($G24,'as of August 26'!$A$5:$V$195,5,0),"") | C24: =IFERROR(VLOOKUP($G24,'as of August 26'!$A$5:$V$195,19,0),"") | D24: =IFERROR(VLOOKUP($G24,'as of August 26'!$A$5:$V$195,20,0),"") | E24: =IFERROR(VLOOKUP($G24,'as of August 26'!$A$5:$V$195,21,0),"") | F24: =IFERROR(VLOOKUP($G24,'as of August 26'!$A$5:$V$195,8,0),"") | G24: {=IFERROR(INDEX('as of August 26'!$F$5:$F$195,SMALL(IF('as of August 26'!$B$5:$B$195="YES",ROW('as of August 26'!$B$5:$B$195)-MIN(ROW('as of August 26'!$B$5:$B$195))+1),ROW(16:16))),"")} | H24: =IFERROR(VLOOKUP($G24,'as of August 26'!$A$5:$V$195,4,0),"") | I24: =IFERROR(IF(ISBLANK(K24),"",VLOOKUP($G24,'as of August 26'!$A$5:$V$195,16,0)-J24),"") | J24: =IFERROR(VLOOKUP($G24,'as of August 26'!$A$5:$V$195,13,0),"") | K24: =IFERROR(VLOOKUP($G24,'as of August 26'!$A$5:$X$195,23,0),"")
A25: =IFERROR(VLOOKUP($G25,'as of August 26'!$A$5:$V$195,3,0),"") | B25: =IFERROR(VLOOKUP($G25,'as of August 26'!$A$5:$V$195,5,0),"") | C25: =IFERROR(VLOOKUP($G25,'as of August 26'!$A$5:$V$195,19,0),"") | D25: =IFERROR(VLOOKUP($G25,'as of August 26'!$A$5:$V$195,20,0),"") | E25: =IFERROR(VLOOKUP($G25,'as of August 26'!$A$5:$V$195,21,0),"") | F25: =IFERROR(VLOOKUP($G25,'as of August 26'!$A$5:$V$195,8,0),"") | G25: {=IFERROR(INDEX('as of August 26'!$F$5:$F$195,SMALL(IF('as of August 26'!$B$5:$B$195="YES",ROW('as of August 26'!$B$5:$B$195)-MIN(ROW('as of August 26'!$B$5:$B$195))+1),ROW(17:17))),"")} | H25: =IFERROR(VLOOKUP($G25,'as of August 26'!$A$5:$V$195,4,0),"") | I25: =IFERROR(IF(ISBLANK(K25),"",VLOOKUP($G25,'as of August 26'!$A$5:$V$195,16,0)-J25),"") | J25: =IFERROR(VLOOKUP($G25,'as of August 26'!$A$5:$V$195,13,0),"") | K25: =IFERROR(VLOOKUP($G25,'as of August 26'!$A$5:$X$195,23,0),"")
A26: =IFERROR(VLOOKUP($G26,'as of August 26'!$A$5:$V$195,3,0),"") | B26: =IFERROR(VLOOKUP($G26,'as of August 26'!$A$5:$V$195,5,0),"") | C26: =IFERROR(VLOOKUP($G26,'as of August 26'!$A$5:$V$195,19,0),"") | D26: =IFERROR(VLOOKUP($G26,'as of August 26'!$A$5:$V$195,20,0),"") | E26: =IFERROR(VLOOKUP($G26,'as of August 26'!$A$5:$V$195,21,0),"") | F26: =IFERROR(VLOOKUP($G26,'as of August 26'!$A$5:$V$195,8,0),"") | G26: {=IFERROR(INDEX('as of August 26'!$F$5:$F$195,SMALL(IF('as of August 26'!$B$5:$B$195="YES",ROW('as of August 26'!$B$5:$B$195)-MIN(ROW('as of August 26'!$B$5:$B$195))+1),ROW(18:18))),"")} | H26: =IFERROR(VLOOKUP($G26,'as of August 26'!$A$5:$V$195,4,0),"") | I26: =IFERROR(IF(ISBLANK(K26),"",VLOOKUP($G26,'as of August 26'!$A$5:$V$195,16,0)-J26),"") | J26: =IFERROR(VLOOKUP($G26,'as of August 26'!$A$5:$V$195,13,0),"") | K26: =IFERROR(VLOOKUP($G26,'as of August 26'!$A$5:$X$195,23,0),"")
A27: =IFERROR(VLOOKUP($G27,'as of August 26'!$A$5:$V$195,3,0),"") | B27: =IFERROR(VLOOKUP($G27,'as of August 26'!$A$5:$V$195,5,0),"") | C27: =IFERROR(VLOOKUP($G27,'as of August 26'!$A$5:$V$195,19,0),"") | D27: =IFERROR(VLOOKUP($G27,'as of August 26'!$A$5:$V$195,20,0),"") | E27: =IFERROR(VLOOKUP($G27,'as of August 26'!$A$5:$V$195,21,0),"") | F27: =IFERROR(VLOOKUP($G27,'as of August 26'!$A$5:$V$195,8,0),"") | G27: {=IFERROR(INDEX('as of August 26'!$F$5:$F$195,SMALL(IF('as of August 26'!$B$5:$B$195="YES",ROW('as of August 26'!$B$5:$B$195)-MIN(ROW('as of August 26'!$B$5:$B$195))+1),ROW(19:19))),"")} | H27: =IFERROR(VLOOKUP($G27,'as of August 26'!$A$5:$V$195,4,0),"") | I27: =IFERROR(IF(ISBLANK(K27),"",VLOOKUP($G27,'as of August 26'!$A$5:$V$195,16,0)-J27),"") | J27: =IFERROR(VLOOKUP($G27,'as of August 26'!$A$5:$V$195,13,0),"") | K27: =IFERROR(VLOOKUP($G27,'as of August 26'!$A$5:$X$195,23,0),"")
A28: =IFERROR(VLOOKUP($G28,'as of August 26'!$A$5:$V$195,3,0),"") | B28: =IFERROR(VLOOKUP($G28,'as of August 26'!$A$5:$V$195,5,0),"") | C28: =IFERROR(VLOOKUP($G28,'as of August 26'!$A$5:$V$195,19,0),"") | D28: =IFERROR(VLOOKUP($G28,'as of August 26'!$A$5:$V$195,20,0),"") | E28: =IFERROR(VLOOKUP($G28,'as of August 26'!$A$5:$V$195,21,0),"") | F28: =IFERROR(VLOOKUP($G28,'as of August 26'!$A$5:$V$195,8,0),"") | G28: {=IFERROR(INDEX('as of August 26'!$F$5:$F$195,SMALL(IF('as of August 26'!$B$5:$B$195="YES",ROW('as of August 26'!$B$5:$B$195)-MIN(ROW('as of August 26'!$B$5:$B$195))+1),ROW(20:20))),"")} | H28: =IFERROR(VLOOKUP($G28,'as of August 26'!$A$5:$V$195,4,0),"") | I28: =IFERROR(IF(ISBLANK(K28),"",VLOOKUP($G28,'as of August 26'!$A$5:$V$195,16,0)-J28),"") | J28: =IFERROR(VLOOKUP($G28,'as of August 26'!$A$5:$V$195,13,0),"") | K28: =IFERROR(VLOOKUP($G28,'as of August 26'!$A$5:$X$195,23,0),"")
A29: =IFERROR(VLOOKUP($G29,'as of August 26'!$A$5:$V$195,3,0),"") | B29: =IFERROR(VLOOKUP($G29,'as of August 26'!$A$5:$V$195,5,0),"") | C29: =IFERROR(VLOOKUP($G29,'as of August 26'!$A$5:$V$195,19,0),"") | D29: =IFERROR(VLOOKUP($G29,'as of August 26'!$A$5:$V$195,20,0),"") | E29: =IFERROR(VLOOKUP($G29,'as of August 26'!$A$5:$V$195,21,0),"") | F29: =IFERROR(VLOOKUP($G29,'as of August 26'!$A$5:$V$195,8,0),"") | G29: {=IFERROR(INDEX('as of August 26'!$F$5:$F$195,SMALL(IF('as of August 26'!$B$5:$B$195="YES",ROW('as of August 26'!$B$5:$B$195)-MIN(ROW('as of August 26'!$B$5:$B$195))+1),ROW(21:21))),"")} | H29: =IFERROR(VLOOKUP($G29,'as of August 26'!$A$5:$V$195,4,0),"") | I29: =IFERROR(IF(ISBLANK(K29),"",VLOOKUP($G29,'as of August 26'!$A$5:$V$195,16,0)-J29),"") | J29: =IFERROR(VLOOKUP($G29,'as of August 26'!$A$5:$V$195,13,0),"") | K29: =IFERROR(VLOOKUP($G29,'as of August 26'!$A$5:$X$195,23,0),"")
A30: =IFERROR(VLOOKUP($G30,'as of August 26'!$A$5:$V$195,3,0),"") | B30: =IFERROR(VLOOKUP($G30,'as of August 26'!$A$5:$V$195,5,0),"") | C30: =IFERROR(VLOOKUP($G30,'as of August 26'!$A$5:$V$195,19,0),"") | D30: =IFERROR(VLOOKUP($G30,'as of August 26'!$A$5:$V$195,20,0),"") | E30: =IFERROR(VLOOKUP($G30,'as of August 26'!$A$5:$V$195,21,0),"") | F30: =IFERROR(VLOOKUP($G30,'as of August 26'!$A$5:$V$195,8,0),"") | G30: {=IFERROR(INDEX('as of August 26'!$F$5:$F$195,SMALL(IF('as of August 26'!$B$5:$B$195="YES",ROW('as of August 26'!$B$5:$B$195)-MIN(ROW('as of August 26'!$B$5:$B$195))+1),ROW(22:22))),"")} | H30: =IFERROR(VLOOKUP($G30,'as of August 26'!$A$5:$V$195,4,0),"") | I30: =IFERROR(IF(ISBLANK(K30),"",VLOOKUP($G30,'as of August 26'!$A$5:$V$195,16,0)-J30),"") | J30: =IFERROR(VLOOKUP($G30,'as of August 26'!$A$5:$V$195,13,0),"") | K30: =IFERROR(VLOOKUP($G30,'as of August 26'!$A$5:$X$195,23,0),"")
A31: =IFERROR(VLOOKUP($G31,'as of August 26'!$A$5:$V$195,3,0),"") | B31: =IFERROR(VLOOKUP($G31,'as of August 26'!$A$5:$V$195,5,0),"") | C31: =IFERROR(VLOOKUP($G31,'as of August 26'!$A$5:$V$195,19,0),"") | D31: =IFERROR(VLOOKUP($G31,'as of August 26'!$A$5:$V$195,20,0),"") | E31: =IFERROR(VLOOKUP($G31,'as of August 26'!$A$5:$V$195,21,0),"") | F31: =IFERROR(VLOOKUP($G31,'as of August 26'!$A$5:$V$195,8,0),"") | G31: {=IFERROR(INDEX('as of August 26'!$F$5:$F$195,SMALL(IF('as of August 26'!$B$5:$B$195="YES",ROW('as of August 26'!$B$5:$B$195)-MIN(ROW('as of August 26'!$B$5:$B$195))+1),ROW(23:23))),"")} | H31: =IFERROR(VLOOKUP($G31,'as of August 26'!$A$5:$V$195,4,0),"") | I31: =IFERROR(IF(ISBLANK(K31),"",VLOOKUP($G31,'as of August 26'!$A$5:$V$195,16,0)-J31),"") | J31: =IFERROR(VLOOKUP($G31,'as of August 26'!$A$5:$V$195,13,0),"") | K31: =IFERROR(VLOOKUP($G31,'as of August 26'!$A$5:$X$195,23,0),"")
A32: =IFERROR(VLOOKUP($G32,'as of August 26'!$A$5:$V$195,3,0),"") | B32: =IFERROR(VLOOKUP($G32,'as of August 26'!$A$5:$V$195,5,0),"") | C32: =IFERROR(VLOOKUP($G32,'as of August 26'!$A$5:$V$195,19,0),"") | D32: =IFERROR(VLOOKUP($G32,'as of August 26'!$A$5:$V$195,20,0),"") | E32: =IFERROR(VLOOKUP($G32,'as of August 26'!$A$5:$V$195,21,0),"") | F32: =IFERROR(VLOOKUP($G32,'as of August 26'!$A$5:$V$195,8,0),"") | G32: {=IFERROR(INDEX('as of August 26'!$F$5:$F$195,SMALL(IF('as of August 26'!$B$5:$B$195="YES",ROW('as of August 26'!$B$5:$B$195)-MIN(ROW('as of August 26'!$B$5:$B$195))+1),ROW(24:24))),"")} | H32: =IFERROR(VLOOKUP($G32,'as of August 26'!$A$5:$V$195,4,0),"") | I32: =IFERROR(IF(ISBLANK(K32),"",VLOOKUP($G32,'as of August 26'!$A$5:$V$195,16,0)-J32),"") | J32: =IFERROR(VLOOKUP($G32,'as of August 26'!$A$5:$V$195,13,0),"") | K32: =IFERROR(VLOOKUP($G32,'as of August 26'!$A$5:$X$195,23,0),"")
A33: =IFERROR(VLOOKUP($G33,'as of August 26'!$A$5:$V$195,3,0),"") | B33: =IFERROR(VLOOKUP($G33,'as of August 26'!$A$5:$V$195,5,0),"") | C33: =IFERROR(VLOOKUP($G33,'as of August 26'!$A$5:$V$195,19,0),"") | D33: =IFERROR(VLOOKUP($G33,'as of August 26'!$A$5:$V$195,20,0),"") | E33: =IFERROR(VLOOKUP($G33,'as of August 26'!$A$5:$V$195,21,0),"") | F33: =IFERROR(VLOOKUP($G33,'as of August 26'!$A$5:$V$195,8,0),"") | G33: {=IFERROR(INDEX('as of August 26'!$F$5:$F$195,SMALL(IF('as of August 26'!$B$5:$B$195="YES",ROW('as of August 26'!$B$5:$B$195)-MIN(ROW('as of August 26'!$B$5:$B$195))+1),ROW(25:25))),"")} | H33: =IFERROR(VLOOKUP($G33,'as of August 26'!$A$5:$V$195,4,0),"") | I33: =IFERROR(IF(ISBLANK(K33),"",VLOOKUP($G33,'as of August 26'!$A$5:$V$195,16,0)-J33),"") | J33: =IFERROR(VLOOKUP($G33,'as of August 26'!$A$5:$V$195,13,0),"") | K33: =IFERROR(VLOOKUP($G33,'as of August 26'!$A$5:$X$195,23,0),"")
A34: =IFERROR(VLOOKUP($G34,'as of August 26'!$A$5:$V$195,3,0),"") | B34: =IFERROR(VLOOKUP($G34,'as of August 26'!$A$5:$V$195,5,0),"") | C34: =IFERROR(VLOOKUP($G34,'as of August 26'!$A$5:$V$195,19,0),"") | D34: =IFERROR(VLOOKUP($G34,'as of August 26'!$A$5:$V$195,20,0),"") | E34: =IFERROR(VLOOKUP($G34,'as of August 26'!$A$5:$V$195,21,0),"") | F34: =IFERROR(VLOOKUP($G34,'as of August 26'!$A$5:$V$195,8,0),"") | G34: {=IFERROR(INDEX('as of August 26'!$F$5:$F$195,SMALL(IF('as of August 26'!$B$5:$B$195="YES",ROW('as of August 26'!$B$5:$B$195)-MIN(ROW('as of August 26'!$B$5:$B$195))+1),ROW(26:26))),"")} | H34: =IFERROR(VLOOKUP($G34,'as of August 26'!$A$5:$V$195,4,0),"") | I34: =IFERROR(IF(ISBLANK(K34),"",VLOOKUP($G34,'as of August 26'!$A$5:$V$195,16,0)-J34),"") | J34: =IFERROR(VLOOKUP($G34,'as of August 26'!$A$5:$V$195,13,0),"") | K34: =IFERROR(VLOOKUP($G34,'as of August 26'!$A$5:$X$195,23,0),"")
A35: =IFERROR(VLOOKUP($G35,'as of August 26'!$A$5:$V$195,3,0),"") | B35: =IFERROR(VLOOKUP($G35,'as of August 26'!$A$5:$V$195,5,0),"") | C35: =IFERROR(VLOOKUP($G35,'as of August 26'!$A$5:$V$195,19,0),"") | D35: =IFERROR(VLOOKUP($G35,'as of August 26'!$A$5:$V$195,20,0),"") | E35: =IFERROR(VLOOKUP($G35,'as of August 26'!$A$5:$V$195,21,0),"") | F35: =IFERROR(VLOOKUP($G35,'as of August 26'!$A$5:$V$195,8,0),"") | G35: {=IFERROR(INDEX('as of August 26'!$F$5:$F$195,SMALL(IF('as of August 26'!$B$5:$B$195="YES",ROW('as of August 26'!$B$5:$B$195)-MIN(ROW('as of August 26'!$B$5:$B$195))+1),ROW(27:27))),"")} | H35: =IFERROR(VLOOKUP($G35,'as of August 26'!$A$5:$V$195,4,0),"") | I35: =IFERROR(IF(ISBLANK(K35),"",VLOOKUP($G35,'as of August 26'!$A$5:$V$195,16,0)-J35),"") | J35: =IFERROR(VLOOKUP($G35,'as of August 26'!$A$5:$V$195,13,0),"") | K35: =IFERROR(VLOOKUP($G35,'as of August 26'!$A$5:$X$195,23,0),"")
A36: =IFERROR(VLOOKUP($G36,'as of August 26'!$A$5:$V$195,3,0),"") | B36: =IFERROR(VLOOKUP($G36,'as of August 26'!$A$5:$V$195,5,0),"") | C36: =IFERROR(VLOOKUP($G36,'as of August 26'!$A$5:$V$195,19,0),"") | D36: =IFERROR(VLOOKUP($G36,'as of August 26'!$A$5:$V$195,20,0),"") | E36: =IFERROR(VLOOKUP($G36,'as of August 26'!$A$5:$V$195,21,0),"") | F36: =IFERROR(VLOOKUP($G36,'as of August 26'!$A$5:$V$195,8,0),"") | G36: {=IFERROR(INDEX('as of August 26'!$F$5:$F$195,SMALL(IF('as of August 26'!$B$5:$B$195="YES",ROW('as of August 26'!$B$5:$B$195)-MIN(ROW('as of August 26'!$B$5:$B$195))+1),ROW(28:28))),"")} | H36: =IFERROR(VLOOKUP($G36,'as of August 26'!$A$5:$V$195,4,0),"") | I36: =IFERROR(IF(ISBLANK(K36),"",VLOOKUP($G36,'as of August 26'!$A$5:$V$195,16,0)-J36),"") | J36: =IFERROR(VLOOKUP($G36,'as of August 26'!$A$5:$V$195,13,0),"") | K36: =IFERROR(VLOOKUP($G36,'as of August 26'!$A$5:$X$195,23,0),"")
A37: =IFERROR(VLOOKUP($G37,'as of August 26'!$A$5:$V$195,3,0),"") | B37: =IFERROR(VLOOKUP($G37,'as of August 26'!$A$5:$V$195,5,0),"") | C37: =IFERROR(VLOOKUP($G37,'as of August 26'!$A$5:$V$195,19,0),"") | D37: =IFERROR(VLOOKUP($G37,'as of August 26'!$A$5:$V$195,20,0),"") | E37: =IFERROR(VLOOKUP($G37,'as of August 26'!$A$5:$V$195,21,0),"") | F37: =IFERROR(VLOOKUP($G37,'as of August 26'!$A$5:$V$195,8,0),"") | G37: {=IFERROR(INDEX('as of August 26'!$F$5:$F$195,SMALL(IF('as of August 26'!$B$5:$B$195="YES",ROW('as of August 26'!$B$5:$B$195)-MIN(ROW('as of August 26'!$B$5:$B$195))+1),ROW(29:29))),"")} | H37: =IFERROR(VLOOKUP($G37,'as of August 26'!$A$5:$V$195,4,0),"") | I37: =IFERROR(IF(ISBLANK(K37),"",VLOOKUP($G37,'as of August 26'!$A$5:$V$195,16,0)-J37),"") | J37: =IFERROR(VLOOKUP($G37,'as of August 26'!$A$5:$V$195,13,0),"") | K37: =IFERROR(VLOOKUP($G37,'as of August 26'!$A$5:$X$195,23,0),"")
A38: =IFERROR(VLOOKUP($G38,'as of August 26'!$A$5:$V$195,3,0),"") | B38: =IFERROR(VLOOKUP($G38,'as of August 26'!$A$5:$V$195,5,0),"") | C38: =IFERROR(VLOOKUP($G38,'as of August 26'!$A$5:$V$195,19,0),"") | D38: =IFERROR(VLOOKUP($G38,'as of August 26'!$A$5:$V$195,20,0),"") | E38: =IFERROR(VLOOKUP($G38,'as of August 26'!$A$5:$V$195,21,0),"") | F38: =IFERROR(VLOOKUP($G38,'as of August 26'!$A$5:$V$195,8,0),"") | G38: {=IFERROR(INDEX('as of August 26'!$F$5:$F$195,SMALL(IF('as of August 26'!$B$5:$B$195="YES",ROW('as of August 26'!$B$5:$B$195)-MIN(ROW('as of August 26'!$B$5:$B$195))+1),ROW(30:30))),"")} | H38: =IFERROR(VLOOKUP($G38,'as of August 26'!$A$5:$V$195,4,0),"") | I38: =IFERROR(IF(ISBLANK(K38),"",VLOOKUP($G38,'as of August 26'!$A$5:$V$195,16,0)-J38),"") | J38: =IFERROR(VLOOKUP($G38,'as of August 26'!$A$5:$V$195,13,0),"") | K38: =IFERROR(VLOOKUP($G38,'as of August 26'!$A$5:$X$195,23,0),"")
A39: =IFERROR(VLOOKUP($G39,'as of August 26'!$A$5:$V$195,3,0),"") | B39: =IFERROR(VLOOKUP($G39,'as of August 26'!$A$5:$V$195,5,0),"") | C39: =IFERROR(VLOOKUP($G39,'as of August 26'!$A$5:$V$195,19,0),"") | D39: =IFERROR(VLOOKUP($G39,'as of August 26'!$A$5:$V$195,20,0),"") | E39: =IFERROR(VLOOKUP($G39,'as of August 26'!$A$5:$V$195,21,0),"") | F39: =IFERROR(VLOOKUP($G39,'as of August 26'!$A$5:$V$195,8,0),"") | G39: {=IFERROR(INDEX('as of August 26'!$F$5:$F$195,SMALL(IF('as of August 26'!$B$5:$B$195="YES",ROW('as of August 26'!$B$5:$B$195)-MIN(ROW('as of August 26'!$B$5:$B$195))+1),ROW(31:31))),"")} | H39: =IFERROR(VLOOKUP($G39,'as of August 26'!$A$5:$V$195,4,0),"") | I39: =IFERROR(IF(ISBLANK(K39),"",VLOOKUP($G39,'as of August 26'!$A$5:$V$195,16,0)-J39),"") | J39: =IFERROR(VLOOKUP($G39,'as of August 26'!$A$5:$V$195,13,0),"") | K39: =IFERROR(VLOOKUP($G39,'as of August 26'!$A$5:$X$195,23,0),"")
A40: =IFERROR(VLOOKUP($G40,'as of August 26'!$A$5:$V$195,3,0),"") | B40: =IFERROR(VLOOKUP($G40,'as of August 26'!$A$5:$V$195,5,0),"") | C40: =IFERROR(VLOOKUP($G40,'as of August 26'!$A$5:$V$195,19,0),"") | D40: =IFERROR(VLOOKUP($G40,'as of August 26'!$A$5:$V$195,20,0),"") | E40: =IFERROR(VLOOKUP($G40,'as of August 26'!$A$5:$V$195,21,0),"") | F40: =IFERROR(VLOOKUP($G40,'as of August 26'!$A$5:$V$195,8,0),"") | G40: {=IFERROR(INDEX('as of August 26'!$F$5:$F$195,SMALL(IF('as of August 26'!$B$5:$B$195="YES",ROW('as of August 26'!$B$5:$B$195)-MIN(ROW('as of August 26'!$B$5:$B$195))+1),ROW(32:32))),"")} | H40: =IFERROR(VLOOKUP($G40,'as of August 26'!$A$5:$V$195,4,0),"") | I40: =IFERROR(IF(ISBLANK(K40),"",VLOOKUP($G40,'as of August 26'!$A$5:$V$195,16,0)-J40),"") | J40: =IFERROR(VLOOKUP($G40,'as of August 26'!$A$5:$V$195,13,0),"") | K40: =IFERROR(VLOOKUP($G40,'as of August 26'!$A$5:$X$195,23,0),"")
A41: =IFERROR(VLOOKUP($G41,'as of August 26'!$A$5:$V$195,3,0),"") | B41: =IFERROR(VLOOKUP($G41,'as of August 26'!$A$5:$V$195,5,0),"") | C41: =IFERROR(VLOOKUP($G41,'as of August 26'!$A$5:$V$195,19,0),"") | D41: =IFERROR(VLOOKUP($G41,'as of August 26'!$A$5:$V$195,20,0),"") | E41: =IFERROR(VLOOKUP($G41,'as of August 26'!$A$5:$V$195,21,0),"") | F41: =IFERROR(VLOOKUP($G41,'as of August 26'!$A$5:$V$195,8,0),"") | G41: {=IFERROR(INDEX('as of August 26'!$F$5:$F$195,SMALL(IF('as of August 26'!$B$5:$B$195="YES",ROW('as of August 26'!$B$5:$B$195)-MIN(ROW('as of August 26'!$B$5:$B$195))+1),ROW(33:33))),"")} | H41: =IFERROR(VLOOKUP($G41,'as of August 26'!$A$5:$V$195,4,0),"") | I41: =IFERROR(IF(ISBLANK(K41),"",VLOOKUP($G41,'as of August 26'!$A$5:$V$195,16,0)-J41),"") | J41: =IFERROR(VLOOKUP($G41,'as of August 26'!$A$5:$V$195,13,0),"") | K41: =IFERROR(VLOOKUP($G41,'as of August 26'!$A$5:$X$195,23,0),"")
A42: =IFERROR(VLOOKUP($G42,'as of August 26'!$A$5:$V$195,3,0),"") | B42: =IFERROR(VLOOKUP($G42,'as of August 26'!$A$5:$V$195,5,0),"") | C42: =IFERROR(VLOOKUP($G42,'as of August 26'!$A$5:$V$195,19,0),"") | D42: =IFERROR(VLOOKUP($G42,'as of August 26'!$A$5:$V$195,20,0),"") | E42: =IFERROR(VLOOKUP($G42,'as of August 26'!$A$5:$V$195,21,0),"") | F42: =IFERROR(VLOOKUP($G42,'as of August 26'!$A$5:$V$195,8,0),"") | G42: {=IFERROR(INDEX('as of August 26'!$F$5:$F$195,SMALL(IF('as of August 26'!$B$5:$B$195="YES",ROW('as of August 26'!$B$5:$B$195)-MIN(ROW('as of August 26'!$B$5:$B$195))+1),ROW(34:34))),"")} | H42: =IFERROR(VLOOKUP($G42,'as of August 26'!$A$5:$V$195,4,0),"") | I42: =IFERROR(IF(ISBLANK(K42),"",VLOOKUP($G42,'as of August 26'!$A$5:$V$195,16,0)-J42),"") | J42: =IFERROR(VLOOKUP($G42,'as of August 26'!$A$5:$V$195,13,0),"") | K42: =IFERROR(VLOOKUP($G42,'as of August 26'!$A$5:$X$195,23,0),"")
A43: =IFERROR(VLOOKUP($G43,'as of August 26'!$A$5:$V$195,3,0),"") | B43: =IFERROR(VLOOKUP($G43,'as of August 26'!$A$5:$V$195,5,0),"") | C43: =IFERROR(VLOOKUP($G43,'as of August 26'!$A$5:$V$195,19,0),"") | D43: =IFERROR(VLOOKUP($G43,'as of August 26'!$A$5:$V$195,20,0),"") | E43: =IFERROR(VLOOKUP($G43,'as of August 26'!$A$5:$V$195,21,0),"") | F43: =IFERROR(VLOOKUP($G43,'as of August 26'!$A$5:$V$195,8,0),"") | G43: {=IFERROR(INDEX('as of August 26'!$F$5:$F$195,SMALL(IF('as of August 26'!$B$5:$B$195="YES",ROW('as of August 26'!$B$5:$B$195)-MIN(ROW('as of August 26'!$B$5:$B$195))+1),ROW(35:35))),"")} | H43: =IFERROR(VLOOKUP($G43,'as of August 26'!$A$5:$V$195,4,0),"") | I43: =IFERROR(IF(ISBLANK(K43),"",VLOOKUP($G43,'as of August 26'!$A$5:$V$195,16,0)-J43),"") | J43: =IFERROR(VLOOKUP($G43,'as of August 26'!$A$5:$V$195,13,0),"") | K43: =IFERROR(VLOOKUP($G43,'as of August 26'!$A$5:$X$195,23,0),"")
...

Sheet as of August 26
C1: Strategic Partner - Kiwi Auto Motors - Invoice Activity | J1: Averaage Car Cost | K1: Dep. Req. | L1: Dep. Paid | M1: Dep. Due | N1: Pay/Claim | O1: Price Adj. | P1: Total Outstanding
J2: =SUM(J5:J195)/F3 -> 10239.921 | K2: =SUM(K5:K195) -> 0 | L2: =SUM(L5:L195) -> 31249.8 | M2: =SUM(M5:M195) -> 0 | N2: =SUM(N5:N195) -> 47579.77 | O2: =SUM(O5:O195) -> 31297.15 | P2: =SUM(P5:P195) -> 1123403.7
F3: =COUNTA(F5:F195) -> 121
C4: Transaction Date | D4: Due Date | E4: Invoice Number | F4: Chassis | G4: Hyperlink | H4: Year Make Model | I4: SP Customer | J4: Invoice Amount | K4: Deposit Required | L4: Deposit Paid | M4: Deposit Due | N4: Payment/Claims | O4: Price Adgustment | P4: Amount Outstanding | Q4: New Prices | S4: Stock Origin | T4: Vessel | U4: ETD | V4: ETA | W4: Remark 1 | X4: MR2A Released:
A5: =F5 -> CWEFWN-117590 | B5: =IF(D5=0,"NO","YES") -> NO | C5: 45153 | E5: INV-15949 | F5: CWEFWN-117590 | G5: https://www.ibcauto.com/vehicle/checklist?crypt=%5E%D2%D0%E5%98%E1%D1%CC%9E%C6%71%A1%98%94%6E%9D%6B%99%E1%A1%AD%CA%AC%9F%CA%95%58%A6%DF%C5%AA%E3%D9%A9%68%91%DD%E2%AC%CA%AB%AB%6C%92%DE%D0%CE%9A%D7%A1%6F%69%87%B9%86%B9%BE%A7%DB%A7%C5%DE%D1%D1%A8%95%89%E0%A5 | H5: 2012 NISSAN LAFESTA | I5: Strategic Partner - Kiwi Motors | J5: 6164 | K5: =IF(OR(D5=0,L5>0,P5=0,S5="NZ Stock",S5="Trade In",S5="OBO"),"",2800) | M5: =IF(OR(K5=0,P5=0),0,K5) | P5: =J5-L5-N5-O5 -> 6164 | Q5: 5500 | R5: =+P5-Q5 -> 664 | S5: NZ Stock | T5: Frontier Ace 192A
A6: =F6 -> ZE1-017955 | B6: =IF(D6=0,"NO","YES") -> NO | C6: 45153 | E6: INV-15969 | F6: ZE1-017955 | G6: https://www.ibcauto.com/vehicle/checklist?crypt=%5E%D2%D0%E5%98%E1%D1%CC%9E%C6%71%A1%97%98%6A%9E%70%99%E1%A1%AD%CA%AC%9F%CA%95%58%A6%DF%C5%AA%E3%D9%A9%68%91%DD%E2%AC%CA%AB%AB%6C%92%DE%D0%CE%9A%D7%A1%6F%69%87%B9%86%B9%BE%A7%DB%A7%C5%DE%D1%D1%A8%95%89%E0%A5 | H6: 2018 NISSAN LEAF | I6: Strategic Partner - Kiwi Motors | J6: 27797.15 | K6: =IF(OR(D6=0,L6>0,P6=0,S6="NZ Stock",S6="Trade In",S6="OBO"),"",2800) | M6: =IF(OR(K6=0,P6=0),0,K6) | O6: 5797.15 | P6: =J6-L6-N6-O6 -> 22000 | Q6: 13000 | R6: =+P6-Q6 -> 9000 | S6: NZ Stock | T6: Frontier Ace 192A
A7: =F7 -> NHP10-2215568 | B7: =IF(D7=0,"NO","YES") -> NO | C7: 45153 | E7: INV-15959 | F7: NHP10-2215568 | G7: https://www.ibcauto.com/vehicle/checklist?crypt=%5E%D2%D0%E5%98%E1%D1%CC%9E%C6%71%A1%96%98%67%9B%6C%99%E1%A1%AD%CA%AC%9F%CA%95%58%A6%DF%C5%AA%E3%D9%A9%68%91%DD%E2%AC%CA%AB%AB%6C%92%DE%D0%CE%9A%D7%A1%6F%69%87%B9%86%B9%BE%A7%DB%A7%C5%DE%D1%D1%A8%95%89%E0%A5 | H7: 2013 TOYOTA AQUA | I7: Strategic Partner - Kiwi Motors | J7: 9333.97 | K7: =IF(OR(D7=0,L7>0,P7=0,S7="NZ Stock",S7="Trade In",S7="OBO"),"",2800) | M7: =IF(OR(K7=0,P7=0),0,K7) | P7: =J7-L7-N7-O7 -> 9333.97 | Q7: 8000 | R7: =+P7-Q7 -> 1333.97 | S7: NZ Stock | T7: Elegant Ace 75A
A8: =F8 -> ZC83S-118228 | B8: =IF(D8=0,"NO","YES") -> NO | C8: 45153 | E8: INV-15943 | F8: ZC83S-118228 | G8: https://www.ibcauto.com/vehicle/checklist?crypt=%5E%D2%D0%E5%98%E1%D1%CC%9E%C6%71%A1%96%98%6E%9C%69%99%E1%A1%AD%CA%AC%9F%CA%95%58%A6%DF%C5%AA%E3%D9%A9%68%91%DD%E2%AC%CA%AB%AB%6C%92%DE%D0%CE%9A%D7%A1%6F%69%87%B9%86%B9%BE%A7%DB%A7%C5%DE%D1%D1%A8%95%89%E0%A5 | H8: 2018 SUZUKI SWIFT | I8: Strategic Partner - Kiwi Motors | J8: 11786.19 | K8: =IF(OR(D8=0,L8>0,P8=0,S8="NZ Stock",S8="Trade In",S8="OBO"),"",2800) | M8: =IF(OR(K8=0,P8=0),0,K8) | P8: =J8-L8-N8-O8 -> 11786.19 | Q8: 9000 | R8: =+P8-Q8 -> 2786.19 | S8: NZ Stock | T8: Palmela 191A
A9: =F9 -> NKE165-8040261 | B9: =IF(D9=0,"NO","YES") -> NO | C9: 45153 | E9: INV-15961 | F9: NKE165-8040261 | G9: https://www.ibcauto.com/vehicle/checklist?crypt=%5E%D2%D0%E5%98%E1%D1%CC%9E%C6%71%A1%97%93%66%A1%70%99%E1%A1%AD%CA%AC%9F%CA%95%58%A6%DF%C5%AA%E3%D9%A9%68%91%DD%E2%AC%CA%AB%AB%6C%92%DE%D0%CE%9A%D7%A1%6F%69%87%B9%86%B9%BE%A7%DB%A7%C5%DE%D1%D1%A8%95%89%E0%A5 | H9: 2016 TOYOTA COROLLA FIELDER | I9: Strategic Partner - Kiwi Motors | J9: 13513.65 | K9: =IF(OR(D9=0,L9>0,P9=0,S9="NZ Stock",S9="Trade In",S9="OBO"),"",2800) | M9: =IF(OR(K9=0,P9=0),0,K9) | N9: 1300 | P9: =J9-L9-N9-O9 -> 12213.65 | Q9: 10000 | R9: =+P9-Q9 -> 2213.65 | S9: NZ Stock | T9: Frontier Ace 192A | W9: Price reduction $400/Price reduction $900
A10: =F10 -> KEEFW-103928 | B10: =IF(D10=0,"NO","YES") -> NO | C10: 45173 | E10: INV-16297 | F10: KEEFW-103928 | G10: https://www.ibcauto.com/vehicle/checklist?crypt=%5E%D2%D0%E5%98%E1%D1%CC%9E%C6%71%A1%94%97%66%A0%68%99%E1%A1%AD%CA%AC%9F%CA%95%58%A6%DF%C5%AA%E3%D9%A9%68%91%DD%E2%AC%CA%AB%AB%6C%92%DE%D0%CE%9A%D7%A1%6F%69%87%B9%86%B9%BE%A7%DB%A7%C5%DE%D1%D1%A8%95%89%E0%A5 | H10: 2012 MAZDA CX-5 | I10: Strategic Partner - Kiwi Motors | J10: 20139 | K10: =IF(OR(D10=0,L10>0,P10=0,S10="NZ Stock",S10="Trade In",S10="OBO"),"",2800) | M10: =IF(OR(K10=0,P10=0),0,K10) | N10: 3639 | O10: 1500 | P10: =J10-L10-N10-O10 -> 15000 | Q10: 12000 | R10: =+P10-Q10 -> 3000 | S10: NZ Stock | T10: ATNZ Stocks
A11: =F11 -> WBAXL12040DT99283 | B11: =IF(D11=0,"NO","YES") -> NO | C11: 45173 | E11: INV-16303 | F11: WBAXL12040DT99283 | G11: https://www.ibcauto.com/vehicle/checklist?crypt=%5E%D2%D0%E5%98%E1%D1%CC%9E%C6%71%A1%95%9A%6B%9C%70%99%E1%A1%AD%CA%AC%9F%CA%95%58%A6%DF%C5%AA%E3%D9%A9%68%91%DD%E2%AC%CA%AB%AB%6C%92%DE%D0%CE%9A%D7%A1%6F%69%87%B9%86%B9%BE%A7%DB%A7%C5%DE%D1%D1%A8%95%89%E0%A5 | H11: 2012 BMW 523I | I11: Strategic Partner - Kiwi Motors | J11: 17500 | K11: =IF(OR(D11=0,L11>0,P11=0,S11="NZ Stock",S11="Trade In",S11="OBO"),"",2800) | M11: =IF(OR(K11=0,P11=0),0,K11) | N11: 3500 | O11: 2000 | P11: =J11-L11-N11-O11 -> 12000 | Q11: 9000 | R11: =+P11-Q11 -> 3000 | S11: NZ Stock | T11: ATNZ Stocks
A12: =F12 -> ZE1-003899 | B12: =IF(D12=0,"NO","YES") -> NO | C12: 45173 | E12: INV-16289 | F12: ZE1-003899 | G12: https://www.ibcauto.com/vehicle/checklist?crypt=%5E%D2%D0%E5%98%E1%D1%CC%9E%C6%71%A1%97%91%68%A2%6A%99%E1%A1%AD%CA%AC%9F%CA%95%58%A6%DF%C5%AA%E3%D9%A9%68%91%DD%E2%AC%CA%AB%AB%6C%92%DE%D0%CE%9A%D7%A1%6F%69%87%B9%86%B9%BE%A7%DB%A7%C5%DE%D1%D1%A8%95%89%E0%A5 | H12: 2017 NISSAN LEAF | I12: Strategic Partner - Kiwi Motors | J12: 29200.01 | K12: =IF(OR(D12=0,L12>0,P12=0,S12="NZ Stock",S12="Trade In",S12="OBO"),"",2800) | M12: =IF(OR(K12=0,P12=0),0,K12) | N12: 8200.01 | O12: 6000 | P12: =J12-L12-N12-O12 -> 15000 | Q12: 12000 | R12: =+P12-Q12 -> 3000 | S12: OBO | T12: Palmela 192A
A13: =F13 -> AZE0-224414 | B13: =IF(D13=0,"NO","YES") -> NO | C13: 45173 | E13: INV-16284 | F13: AZE0-224414 | G13: https://www.ibcauto.com/vehicle/checklist?crypt=%5E%D2%D0%E5%98%E1%D1%CC%9E%C6%71%A1%96%9A%6A%9F%6A%99%E1%A1%AD%CA%AC%9F%CA%95%58%A6%DF%C5%AA%E3%D9%A9%68%91%DD%E2%AC%CA%AB%AB%6C%92%DE%D0%CE%9A%D7%A1%6F%69%87%B9%86%B9%BE%A7%DB%A7%C5%DE%D1%D1%A8%95%89%E0%A5 | H13: 2017 NISSAN LEAF | I13: Strategic Partner - Kiwi Motors | J13: 23400 | K13: =IF(OR(D13=0,L13>0,P13=0,S13="NZ Stock",S13="Trade In",S13="OBO"),"",2800) | M13: =IF(OR(K13=0,P13=0),0,K13) | N13: 2400 | O13: 6000 | P13: =J13-L13-N13-O13 -> 15000 | Q13: 12000 | R13: =+P13-Q13 -> 3000 | S13: OBO | T13: Palmela 192A
A14: =F14 -> AZE0-061109 | B14: =IF(D14=0,"NO","YES") -> NO | C14: 45173 | E14: INV-16282 | F14: AZE0-061109 | G14: https://www.ibcauto.com/vehicle/checklist?crypt=%5E%D2%D0%E5%98%E1%D1%CC%9E%C6%71%A1%97%97%6D%9C%6B%99%E1%A1%AD%CA%AC%9F%CA%95%58%A6%DF%C5%AA%E3%D9%A9%68%91%DD%E2%AC%CA%AB%AB%6C%92%DE%D0%CE%9A%D7%A1%6F%69%87%B9%86%B9%BE%A7%DB%A7%C5%DE%D1%D1%A8%95%89%E0%A5 | H14: 2013 NISSAN LEAF | I14: Strategic Partner - Kiwi Motors | J14: 13400.01 | K14: =IF(OR(D14=0,L14>0,P14=0,S14="NZ Stock",S14="Trade In",S14="OBO"),"",2800) | M14: =IF(OR(K14=0,P14=0),0,K14) | N14: 3400.01 | P14: =J14-L14-N14-O14 -> 10000 | Q14: 4000 | R14: =+P14-Q14 -> 6000 | S14: OBO | T14: Palmela 192A
A15: =F15 -> ZE0-017765 | B15: =IF(D15=0,"NO","YES") -> NO | C15: 45173 | E15: INV-16293 | F15: ZE0-017765 | G15: https://www.ibcauto.com/vehicle/checklist?crypt=%5E%D2%D0%E5%98%E1%D1%CC%9E%C6%71%A1%96%9A%6D%A2%67%99%E1%A1%AD%CA%AC%9F%CA%95%58%A6%DF%C5%AA%E3%D9%A9%68%91%DD%E2%AC%CA%AB%AB%6C%92%DE%D0%CE%9A%D7%A1%6F%69%87%B9%86%B9%BE%A7%DB%A7%C5%DE%D1%D1%A8%95%89%E0%A5 | H15: 2012 NISSAN LEAF | I15: Strategic Partner - Kiwi Motors | J15: 8500.01 | K15: =IF(OR(D15=0,L15>0,P15=0,S15="NZ Stock",S15="Trade In",S15="OBO"),"",2800) | M15: =IF(OR(K15=0,P15=0),0,K15) | N15: 1500.01 | P15: =J15-L15-N15-O15 -> 7000 | Q15: 4000 | R15: =+P15-Q15 -> 3000 | S15: OBO | T15: Palmela 192A
A16: =F16 -> WDD2452342J246371 | B16: =IF(D16=0,"NO","YES") -> NO | C16: 45273 | E16: INV-17440 | F16: WDD2452342J246371 | G16: https://www.ibcauto.com/vehicle/checklist?crypt=%5E%D2%D0%E5%98%E1%D1%CC%9E%C6%71%9F%98%94%69%9C%6E%99%E1%A1%AD%CA%AC%9F%CA%95%58%A6%DF%C5%AA%E3%D9%A9%68%91%DD%E2%AC%CA%AB%AB%6C%92%DE%D0%CE%9A%D7%A1%6F%69%87%B9%86%B9%BE%A7%DB%A7%C5%DE%D1%D1%A8%95%89%E0%A5 | H16: 2007 MERCEDES-BENZ B200 | I16: Strategic Partner - Kiwi Motors | J16: 8000 | K16: =IF(OR(D16=0,L16>0,P16=0,S16="NZ Stock",S16="Trade In",S16="OBO"),"",2800) | M16: =IF(OR(K16=0,P16=0),0,K16) | O16: 2000 | P16: =J16-L16-N16-O16 -> 6000 | S16: NZ Stock | T16: TRIUMPH ACE 147A
A17: =F17 -> GM4-1003890 | B17: =IF(D17=0,"NO","YES") -> NO | C17: 45334 | E17: INV-18033 | F17: GM4-1003890 | G17: Not IBC Unit | H17: 2014 Honda Grace | I17: Strategic Partner - Kiwi Motors | J17: 13000 | K17: =IF(OR(D17=0,L17>0,P17=0,S17="NZ Stock",S17="Trade In",S17="OBO"),"",2800) | M17: =IF(OR(K17=0,P17=0),0,K17) | P17: =J17-L17-N17-O17 -> 13000 | S17: Trade in | T17: Trade in
A18: =F18 -> JZS161-0024303 | B18: =IF(D18=0,"NO","YES") -> NO | C18: 45338 | E18: INV-18058 | F18: JZS161-0024303 | G18: https://www.ibcauto.com/vehicle/checklist?crypt=%5E%D2%D0%E5%98%E1%D1%CC%9E%C6%71%A0%9D%94%69%9D%6A%99%E1%A1%AD%CA%AC%9F%CA%95%58%A6%DF%C5%AA%E3%D9%A9%68%91%DD%E2%AC%CA%AB%AB%6C%92%DE%D0%CE%9A%D7%A1%6F%69%87%B9%86%B9%BE%A7%DB%A7%C5%DE%D1%D1%A8%95%89%E0%A5 | H18: 2000 TOYOTA ARISTO | I18: Strategic Partner - Kiwi Motors | J18: 16000 | K18: =IF(OR(D18=0,L18>0,P18=0,S18="NZ Stock",S18="Trade In",S18="OBO"),"",2800) | M18: =IF(OR(K18=0,P18=0),0,K18) | P18: =J18-L18-N18-O18 -> 16000 | S18: NZ Stock | T18: Prestige Ace 177A
A19: =F19 -> NHP10-6314830 | B19: =IF(D19=0,"NO","YES") -> NO | C19: 45351 | E19: INV-18244 | F19: NHP10-6314830 | G19: Not IBC Unit | H19: 2014 TOYOTA AQUA | I19: Strategic Partner - Kiwi Motors | J19: 12668.68 | K19: =IF(OR(D19=0,L19>0,P19=0,S19="NZ Stock",S19="Trade In",S19="OBO"),"",2800) | M19: =IF(OR(K19=0,P19=0),0,K19) | P19: =J19-L19-N19-O19 -> 12668.68 | S19: Trade in | T19: Trade in
A20: =F20 -> RR5-1003610 | B20: =IF(D20=0,"NO","YES") -> NO | C20: 45387 | E20: INV-18984 | F20: RR5-1003610 | G20: https://www.ibcauto.com/vehicle/checklist?crypt=%5E%D2%D0%E5%98%E1%D1%CC%9E%C6%71%A0%98%91%6B%A0%6E%99%E1%A1%AD%CA%AC%9F%CA%95%58%A6%DF%C5%AA%E3%D9%A9%68%91%DD%E2%AC%CA%AB%AB%6C%92%DE%D0%CE%9A%D7%A1%6F%69%87%B9%86%B9%BE%A7%DB%A7%C5%DE%D1%D1%A8%95%89%E0%A5 | H20: 2007HONDAELYSION | I20: Strategic Partner - Kiwi Motors | J20: 5000 | K20: =IF(OR(D20=0,L20>0,P20=0,S20="NZ Stock",S20="Trade In",S20="OBO"),"",2800) | M20: =IF(OR(K20=0,P20=0),0,K20) | P20: =J20-L20-N20-O20 -> 5000 | S20: OBO | T20: GARDENIA ACE 103A
A21: =F21 -> WAUZZZF4XGA109448 | B21: =IF(D21=0,"NO","YES") -> NO | C21: 45420 | E21: INV-19583 | F21: WAUZZZF4XGA109448 | G21: https://www.ibcauto.com/vehicle/checklist?crypt=%5E%D2%D0%E5%98%E1%D1%CC%9E%C6%71%A3%98%92%6E%A2%6B%99%E1%A1%AD%CA%AC%9F%CA%95%58%A6%DF%C5%AA%E3%D9%A9%68%91%DD%E2%AC%CA%AB%AB%6C%92%DE%D0%CE%9A%D7%A1%6F%69%87%B9%86%B9%BE%A7%DB%A7%C5%DE%D1%D1%A8%95%89%E0%A5 | H21: 2016 AUDI A4 | I21: Strategic Partner - Kiwi Motors | J21: 14000 | K21: =IF(OR(D21=0,L21>0,P21=0,S21="NZ Stock",S21="Trade In",S21="OBO"),"",2800) | M21: =IF(OR(K21=0,P21=0),0,K21) -> 0 | N21: 6000 | O21: 8000 | P21: =J21-L21-N21-O21 -> 0 | S21: NZ Stock | T21: BELUGA ACE(KB) 51A
A22: =F22 -> E12-357848 | B22: =IF(D22=0,"NO","YES") -> NO | C22: 45420 | E22: INV-19585 | F22: E12-357848 | G22: https://www.ibcauto.com/vehicle/checklist?crypt=%5E%CF%DE%DE%A0%B6%DC%DB%93%CC%9F%D1%D6%87%9F%CF%AD%D8%D6%A1%9C%D1%D4s%9Fbej%A0%94 | H22: 2015 Nissan NOTE | I22: Strategic Partner - Kiwi Motors | J22: 7500 | K22: =IF(OR(D22=0,L22>0,P22=0,S22="NZ Stock",S22="Trade In",S22="OBO"),"",2800) | M22: =IF(OR(K22=0,P22=0),0,K22) | P22: =J22-L22-N22-O22 -> 7500 | S22: NZ Stock | T22: Progress Ace 154A
A23: =F23 -> RU3-1027070 | B23: =IF(D23=0,"NO","YES") -> NO | C23: 45420 | E23: INV-19589 | F23: RU3-1027070 | G23: https://www.ibcauto.com/checklist?crypt=%5E%D2%D0%E5%98%E1%D1%CC%9E%C6q%A1%9D%97o%9Dj%99%E1%A1%AD%CA%AC%9F%CA%95X%A6%DF%C5%AA%E3%D9%A9h%91%DD%E2%AC%CA%AB%ABl%92%DE%D0%CE%9A%D7%A1oi%87%B9%86%B9%BE%A7%DB%A7%C5%DE%D1%D1%A8%95%89%E0%A5%CD%CA%97%E4%CF%D8t%97%97%DE%D2%EB%D7%9F%99%DF%A7%CA%A1%CE%9C%CF%A4%D3%D4%EB%AF%7D%C1%C2%EC%CB%E8%A0%DB%CF%E4%D4%C6%9E%E9%5C%97%A1%CF%DC%DE%DA%A1%E6%9A%D4%96%AB%9D%A1%D1%D0%E5v%91%5E%D8%D8%CE%A7%E6%B6%AC%99%EC%5C%A9%E6%A8%DA%B8%98%A2%9F%AA%ED%AB%86%E8%EA%CB | H23: 2014 Honda VEZEL HYBRID X | I23: Strategic Partner - Kiwi Motors | J23: 15000 | K23: =IF(OR(D23=0,L23>0,P23=0,S23="NZ Stock",S23="Trade In",S23="OBO"),"",2800) | M23: =IF(OR(K23=0,P23=0),0,K23) | P23: =J23-L23-N23-O23 -> 15000 | S23: NZ Stock | T23: Andromeda Spirit 156A
A24: =F24 -> WVWZZZAUZFP600957 | B24: =IF(D24=0,"NO","YES") -> NO | C24: 45420 | E24: INV-19591 | F24: WVWZZZAUZFP600957 | G24: https://www.ibcauto.com/vehicle/checklist?crypt=%5E%D2%D0%E5%98%E1%D1%CC%9E%C6%71%A3%98%99%6D%A3%68%99%E1%A1%AD%CA%AC%9F%CA%95%58%A6%DF%C5%AA%E3%D9%A9%68%91%DD%E2%AC%CA%AB%AB%6C%92%DE%D0%CE%9A%D7%A1%6F%69%87%B9%86%B9%BE%A7%DB%A7%C5%DE%D1%D1%A8%95%89%E0%A5 | H24: 2015 Volkswagen Golf | I24: Strategic Partner - Kiwi Motors | J24: 8000 | K24: =IF(OR(D24=0,L24>0,P24=0,S24="NZ Stock",S24="Trade In",S24="OBO"),"",2800) | M24: =IF(OR(K24=0,P24=0),0,K24) | P24: =J24-L24-N24-O24 -> 8000 | S24: NZ Stock | T24: BELUGA ACE(KZ) 51A
A25: =F25 -> WVWZZZAUZFP575910 | B25: =IF(D25=0,"NO","YES") -> NO | C25: 45420 | E25: INV-19593 | F25: WVWZZZAUZFP575910 | G25: https://www.ibcauto.com/checklist?crypt=%5E%D2%D0%E5%98%E1%D1%CC%9E%C6q%A2%9A%96k%A2i%99%E1%A1%AD%CA%AC%9F%CA%95X%A6%DF%C5%AA%E3%D9%A9h%91%DD%E2%AC%CA%AB%ABl%92%DE%D0%CE%9A%D7%A1oi%87%B9%86%B9%BE%A7%DB%A7%C5%DE%D1%D1%A8%95%89%E0%A5%CD%CA%97%E4%CF%D8t%97%97%DE%D2%EB%D7%9F%99%DF%A7%CA%A1%CE%9C%CF%A4%D3%D4%EB%AF%7D%C1%C2%EC%CB%E8%A0%DB%CF%E4%D4%C6%9E%E9%5C%97%A1%CF%DC%DE%DA%A1%E6%9A%D4%96%AB%9D%A1%D1%D0%E5v%91%5E%D8%D8%CE%A7%E6%B6%AC%99%EC%5C%A9%E6%A8%DA%B8%98%A2%9F%AA%ED%AB%86%E8%EA%CB | H25: 2015 Volkswagen GOLF | I25: Strategic Partner - Kiwi Motors | J25: 8000 | K25: =IF(OR(D25=0,L25>0,P25=0,S25="NZ Stock",S25="Trade In",S25="OBO"),"",2800) | M25: =IF(OR(K25=0,P25=0),0,K25) | P25: =J25-L25-N25-O25 -> 8000 | S25: NZ Stock | T25: Walrus Ace 39A
A26: =F26 -> P15-010118 | B26: =IF(D26=0,"NO","YES") -> NO | C26: 45420 | E26: INV-19597 | F26: P15-010118 | G26: https://www.ibcauto.com/vehicle/checklist?crypt=%5E%D2%D0%E5%98%E1%D1%CC%9E%C6%71%A1%97%92%69%9E%69%99%E1%A1%AD%CA%AC%9F%CA%95%58%A6%DF%C5%AA%E3%D9%A9%68%91%DD%E2%AC%CA%AB%AB%6C%92%DE%D0%CE%9A%D7%A1%6F%69%87%B9%86%B9%BE%A7%DB%A7%C5%DE%D1%D1%A8%95%89%E0%A5 | H26: 2020 NISSAN KIX | I26: Strategic Partner - Kiwi Motors | J26: 23000 | K26: =IF(OR(D26=0,L26>0,P26=0,S26="NZ Stock",S26="Trade In",S26="OBO"),"",2800) | M26: =IF(OR(K26=0,P26=0),0,K26) | P26: =J26-L26-N26-O26 -> 23000 | S26: NZ Stock | T26: Elegant Ace(KZ) 75A
A27: =F27 -> ZRT272-0003941 | B27: =IF(D27=0,"NO","YES") -> NO | C27: 45420 | E27: INV-19599 | F27: ZRT272-0003941 | G27: https://www.ibcauto.com/vehicle/checklist?crypt=%5E%D2%D0%E5%98%E1%D1%CC%9E%C6%71%A3%98%96%67%9B%69%99%E1%A1%AD%CA%AC%9F%CA%95%58%A6%DF%C5%AA%E3%D9%A9%68%91%DD%E2%AC%CA%AB%AB%6C%92%DE%D0%CE%9A%D7%A1%6F%69%87%B9%86%B9%BE%A7%DB%A7%C5%DE%D1%D1%A8%95%89%E0%A5 | H27: 2013 Toyota Avensis Wagon | I27: Strategic Partner - Kiwi Motors | J27: 9000 | K27: =IF(OR(D27=0,L27>0,P27=0,S27="NZ Stock",S27="Trade In",S27="OBO"),"",2800) | M27: =IF(OR(K27=0,P27=0),0,K27) | P27: =J27-L27-N27-O27 -> 9000 | S27: NZ Stock | T27: Venus Spirit(KB) 75A
A28: =F28 -> ZC72S-363646 | B28: =IF(D28=0,"NO","YES") -> NO | C28: 45420 | E28: INV-19601 | F28: ZC72S-363646 | G28: https://www.ibcauto.com/vehicle/checklist?crypt=%5E%D2%D0%E5%98%E1%D1%CC%9E%C6%71%A3%98%99%6D%A4%68%99%E1%A1%AD%CA%AC%9F%CA%95%58%A6%DF%C5%AA%E3%D9%A9%68%91%DD%E2%AC%CA%AB%AB%6C%92%DE%D0%CE%9A%D7%A1%6F%69%87%B9%86%B9%BE%A7%DB%A7%C5%DE%D1%D1%A8%95%89%E0%A5 | H28: 2015SUZUKISWIFT | I28: Strategic Partner - Kiwi Motors | J28: 10000 | K28: =IF(OR(D28=0,L28>0,P28=0,S28="NZ Stock",S28="Trade In",S28="OBO"),"",2800) | M28: =IF(OR(K28=0,P28=0),0,K28) | P28: =J28-L28-N28-O28 -> 10000 | S28: NZ Stock | T28: Josephine Maersk(YK CTN) 408S
A29: =F29 -> KEEFW-105698 | B29: =IF(D29=0,"NO","YES") -> NO | C29: 45420 | E29: INV-19603 | F29: KEEFW-105698 | G29: https://www.ibcauto.com/vehicle/checklist?crypt=%5E%CF%DE%DE%A0%B6%DC%DB%93%CC%9F%D1%D6%87%9F%CF%AD%D8%D6%A1%9C%D1%D4s%9Edbl%A2%97 | H29: 2012 Mazda CX-5 20C | I29: Strategic Partner - Kiwi Motors | J29: 14000 | K29: =IF(OR(D29=0,L29>0,P29=0,S29="NZ Stock",S29="Trade In",S29="OBO"),"",2800) | M29: =IF(OR(K29=0,P29=0),0,K29) | P29: =J29-L29-N29-O29 -> 14000 | S29: NZ Stock | T29: Bravery Ace 153A
A30: =F30 -> WBA3X12000D372553 | B30: =IF(D30=0,"NO","YES") -> NO | C30: 45419 | E30: INV-19569 | F30: WBA3X12000D372553 | G30: https://www.ibcauto.com/vehicle/checklist?crypt=%5E%D2%D0%E5%98%E1%D1%CC%9E%C6%71%A3%98%97%66%9F%6B%99%E1%A1%AD%CA%AC%9F%CA%95%58%A6%DF%C5%AA%E3%D9%A9%68%91%DD%E2%AC%CA%AB%AB%6C%92%DE%D0%CE%9A%D7%A1%6F%69%87%B9%86%B9%BE%A7%DB%A7%C5%DE%D1%D1%A8%95%89%E0%A5 | H30: 2013BMW320i | I30: Strategic Partner - Kiwi Motors | J30: 11000 | K30: =IF(OR(D30=0,L30>0,P30=0,S30="NZ Stock",S30="Trade In",S30="OBO"),"",2800) | M30: =IF(OR(K30=0,P30=0),0,K30) | P30: =J30-L30-N30-O30 -> 11000 | S30: NZ Stock | T30: Beluga Ace 51A
A31: =F31 -> WBA3X12010DZ68478 | B31: =IF(D31=0,"NO","YES") -> NO | C31: 45419 | E31: INV-19571 | F31: WBA3X12010DZ68478 | G31: https://www.ibcauto.com/vehicle/checklist?crypt=%5E%D2%D0%E5%98%E1%D1%CC%9E%C6%71%A3%97%9A%6F%9F%70%99%E1%A1%AD%CA%AC%9F%CA%95%58%A6%DF%C5%AA%E3%D9%A9%68%91%DD%E2%AC%CA%AB%AB%6C%92%DE%D0%CE%9A%D7%A1%6F%69%87%B9%86%B9%BE%A7%DB%A7%C5%DE%D1%D1%A8%95%89%E0%A5 | H31: 2013BMW320I | I31: Strategic Partner - Kiwi Motors | J31: 11000 | K31: =IF(OR(D31=0,L31>0,P31=0,S31="NZ Stock",S31="Trade In",S31="OBO"),"",2800) | M31: =IF(OR(K31=0,P31=0),0,K31) | P31: =J31-L31-N31-O31 -> 11000 | S31: NZ Stock | T31: Beluga Ace 51A
A32: =F32 -> NHP10-6333138 | B32: =IF(D32=0,"NO","YES") -> NO | C32: 45419 | E32: INV-19573 | F32: NHP10-6333138 | G32: https://www.ibcauto.com/checklist?crypt=%5E%CF%DE%DE%A0%B6%DC%DB%93%CC%9F%D1%D6%87%9F%CF%AD%D8%D6%A1%9C%D1%D4s%9Ekeg%9E%98 | H32: 2014 Toyota Aqua | I32: Strategic Partner - Kiwi Motors | J32: 9000 | K32: =IF(OR(D32=0,L32>0,P32=0,S32="NZ Stock",S32="Trade In",S32="OBO"),"",2800) | M32: =IF(OR(K32=0,P32=0),0,K32) | P32: =J32-L32-N32-O32 -> 9000 | S32: NZ Stock | T32: Venus Spirit 72A
A33: =F33 -> GP7-054214 | B33: =IF(D33=0,"NO","YES") -> NO | C33: 45419 | E33: INV-19575 | F33: GP7-054214 | G33: https://www.ibcauto.com/vehicle/checklist?crypt=%5E%D2%D0%E5%98%E1%D1%CC%9E%C6%71%A3%99%9A%67%A3%67%99%E1%A1%AD%CA%AC%9F%CA%95%58%A6%DF%C5%AA%E3%D9%A9%68%91%DD%E2%AC%CA%AB%AB%6C%92%DE%D0%CE%9A%D7%A1%6F%69%87%B9%86%B9%BE%A7%DB%A7%C5%DE%D1%D1%A8%95%89%E0%A5 | H33: 2013SUBARUIMPREZA XV | I33: Strategic Partner - Kiwi Motors | J33: 12000 | K33: =IF(OR(D33=0,L33>0,P33=0,S33="NZ Stock",S33="Trade In",S33="OBO"),"",2800) | M33: =IF(OR(K33=0,P33=0),0,K33) | P33: =J33-L33-N33-O33 -> 12000 | S33: NZ Stock | T33: Venus Spirit 75A
C34: 45419 | E34: INV-19577 | F34: NHP10-2125955 | G34: https://www.ibcauto.com/vehicle/checklist?crypt=%5E%CF%DE%DE%A0%B6%DC%DB%93%CC%9F%D1%D6%87%9F%CF%AD%D8%D6%A1%9C%D1%D4s%9Efcf%A2%94 | H34: 2012TOYOTAAQUA | I34: Strategic Partner - Kiwi Motors | J34: 6000 | K34: =IF(OR(D34=0,L34>0,P34=0,S34="NZ Stock",S34="Trade In",S34="OBO"),"",2800) | M34: =IF(OR(K34=0,P34=0),0,K34) -> 0 | N34: 6000 | P34: =J34-L34-N34-O34 -> 0 | S34: NZ Stock | T34: Bravery Ace 153A | U34: newly added
A35: =F35 -> GG2W-0100959 | B35: =IF(D35=0,"NO","YES") -> NO | C35: 45422 | E35: INV-19677 | F35: GG2W-0100959 | G35: Not IBC Unit | H35: 2014 MITSUBISHI OUTLANDER | I35: Strategic Partner - Kiwi Motors | J35: 13000 | K35: =IF(OR(D35=0,L35>0,P35=0,S35="NZ Stock",S35="Trade In",S35="OBO"),"",2800) | M35: =IF(OR(K35=0,P35=0),0,K35) | P35: =J35-L35-N35-O35 -> 13000 | S35: Trade in | T35: Trade in
A36: =F36 -> HE12-014216 | B36: =IF(D36=0,"NO","YES") -> NO | C36: 45287 | E36: INV-17658 | F36: HE12-014216 | G36: https://www.ibcauto.com/vehicle/checklist?crypt=%5E%D2%D0%E5%98%E1%D1%CC%9E%C6%71%A3%94%95%6A%A0%67%99%E1%A1%AD%CA%AC%9F%CA%95%58%A6%DF%C5%AA%E3%D9%A9%68%91%DD%E2%AC%CA%AB%AB%6C%92%DE%D0%CE%9A%D7%A1%6F%69%87%B9%86%B9%BE%A7%DB%A7%C5%DE%D1%D1%A8%95%89%E0%A5 | H36: 2016 NISSAN NOTE | I36: Strategic Partner - Kiwi Motors | J36: 10898.9 | K36: =IF(OR(D36=0,L36>0,P36=0,S36="NZ Stock",S36="Trade In",S36="OBO"),"",2737.47) | L36: 2258.16 | M36: =IF(OR(K36=0,P36=0),0,K36) -> 0 | N36: 8640.74 | P36: =J36-L36-N36-O36 -> 0 | S36: New Deals | T36: Pegasus Ace(KB) 318A | U36: 45277 | V36: 45303 | X36: *MR2A released 8/8/2024
A37: =F37 -> VY12-260103 | B37: =IF(D37=0,"NO","YES") -> NO | C37: 45314 | E37: INV-17849 | F37: VY12-260103 | G37: https://www.ibcauto.com/vehicle/checklist?crypt=%5E%D2%D0%E5%98%E1%D1%CC%9E%C6%71%A3%96%98%67%A2%6E%99%E1%A1%AD%CA%AC%9F%CA%95%58%A6%DF%C5%AA%E3%D9%A9%68%91%DD%E2%AC%CA%AB%AB%6C%92%DE%D0%CE%9A%D7%A1%6F%69%87%B9%86%B9%BE%A7%DB%A7%C5%DE%D1%D1%A8%95%89%E0%A5 | H37: 2018 NISSAN AD | I37: Strategic Partner - Kiwi Motors | J37: 6240 | K37: =IF(OR(D37=0,L37>0,P37=0,S37="NZ Stock",S37="Trade In",S37="OBO"),"",2124.78) | L37: 2124.78 | M37: =IF(OR(K37=0,P37=0),0,K37) | P37: =J37-L37-N37-O37 -> 4115.22 | S37: New Deals | T37: Venus Spirit(YKK) 74A | U37: 45311 | V37: 45337
A38: =F38 -> ZC6-005107 | B38: =IF(D38=0,"NO","YES") -> NO | C38: 45244 | E38: INV-17105 | F38: ZC6-005107 | G38: https://www.ibcauto.com/vehicle/checklist?crypt=%5E%D2%D0%E5%98%E1%D1%CC%9E%C6%71%A2%94%92%6F%A0%70%99%E1%A1%AD%CA%AC%9F%CA%95%58%A6%DF%C5%AA%E3%D9%A9%68%91%DD%E2%AC%CA%AB%AB%6C%92%DE%D0%CE%9A%D7%A1%6F%69%87%B9%86%B9%BE%A7%DB%A7%C5%DE%D1%D1%A8%95%89%E0%A5 | H38: 2012 SUBARU BRZ | I38: Strategic Partner - Kiwi Motors | J38: 10971.35 | K38: =IF(OR(D38=0,L38>0,P38=0,S38="NZ Stock",S38="Trade In",S38="OBO"),"",2741) | L38: 2741 | M38: =IF(OR(K38=0,P38=0),0,K38) | P38: =J38-L38-N38-O38 -> 8230.35 | S38: New Deals | T38: Pegasus Ace(KB) 317A | U38: 45239 | V38: 45266
A39: =F39 -> GP7-048937 | B39: =IF(D39=0,"NO","YES") -> NO | C39: 45414 | E39: INV-19488 | F39: GP7-048937 | G39: https://www.ibcauto.com/vehicle/checklist?crypt=%5E%D2%D0%E5%98%E1%D1%CC%9E%C6%71%A3%9C%97%6F%9D%69%99%E1%A1%AD%CA%AC%9F%CA%95%58%A6%DF%C5%AA%E3%D9%A9%68%91%DD%E2%AC%CA%AB%AB%6C%92%DE%D0%CE%9A%D7%A1%6F%69%87%B9%86%B9%BE%A7%DB%A7%C5%DE%D1%D1%A8%95%89%E0%A5 | H39: 2013 SUBARU IMPREZA XV | I39: Strategic Partner - Kiwi Motors | J39: 12895 | K39: =IF(OR(D39=0,L39>0,P39=0,S39="NZ Stock",S39="Trade In",S39="OBO"),"",3018.91) | L39: 3018.91 | M39: =IF(OR(K39=0,P39=0),0,K39) | P39: =J39-L39-N39-O39 -> 9876.09 | S39: New Deals | T39: Luna Spirit(KB) 161A | U39: 45408 | V39: 45429
A40: =F40 -> HE12-226817 | B40: =IF(D40=0,"NO","YES") -> NO | C40: 45414 | E40: INV-19499 | F40: HE12-226817 | G40: https://www.ibcauto.com/vehicle/checklist?crypt=%5E%D2%D0%E5%98%E1%D1%CC%9E%C6%71%A3%9C%92%6E%9B%6F%99%E1%A1%AD%CA%AC%9F%CA%95%58%A6%DF%C5%AA%E3%D9%A9%68%91%DD%E2%AC%CA%AB%AB%6C%92%DE%D0%CE%9A%D7%A1%6F%69%87%B9%86%B9%BE%A7%DB%A7%C5%DE%D1%D1%A8%95%89%E0%A5 | H40: 2019 NISSAN NOTE | I40: Strategic Partner - Kiwi Motors | J40: 11055 | K40: =IF(OR(D40=0,L40>0,P40=0,S40="NZ Stock",S40="Trade In",S40="OBO"),"",2778.91) | L40: 2778.91 | M40: =IF(OR(K40=0,P40=0),0,K40) | P40: =J40-L40-N40-O40 -> 8276.09 | S40: New Deals | T40: Luna Spirit(KB) 161A | U40: 45408 | V40: 45429
...
